BEGIN:VCALENDAR
VERSION:2.0
PRODID:-//Positive Discipline Netwerk - ECPv6.15.20//NONSGML v1.0//EN
CALSCALE:GREGORIAN
METHOD:PUBLISH
X-WR-CALNAME:Positive Discipline Netwerk
X-ORIGINAL-URL:https://positivedisciplinenetwerk.nl
X-WR-CALDESC:Evenementen voor Positive Discipline Netwerk
REFRESH-INTERVAL;VALUE=DURATION:PT1H
X-Robots-Tag:noindex
X-PUBLISHED-TTL:PT1H
BEGIN:VTIMEZONE
TZID:Europe/Amsterdam
BEGIN:DAYLIGHT
TZOFFSETFROM:+0100
TZOFFSETTO:+0200
TZNAME:CEST
DTSTART:20230326T010000
END:DAYLIGHT
BEGIN:STANDARD
TZOFFSETFROM:+0200
TZOFFSETTO:+0100
TZNAME:CET
DTSTART:20231029T010000
END:STANDARD
BEGIN:DAYLIGHT
TZOFFSETFROM:+0100
TZOFFSETTO:+0200
TZNAME:CEST
DTSTART:20240331T010000
END:DAYLIGHT
BEGIN:STANDARD
TZOFFSETFROM:+0200
TZOFFSETTO:+0100
TZNAME:CET
DTSTART:20241027T010000
END:STANDARD
BEGIN:DAYLIGHT
TZOFFSETFROM:+0100
TZOFFSETTO:+0200
TZNAME:CEST
DTSTART:20250330T010000
END:DAYLIGHT
BEGIN:STANDARD
TZOFFSETFROM:+0200
TZOFFSETTO:+0100
TZNAME:CET
DTSTART:20251026T010000
END:STANDARD
END:VTIMEZONE
BEGIN:VEVENT
DTSTART;TZID=Europe/Amsterdam:20241017T200000
DTEND;TZID=Europe/Amsterdam:20241017T220000
DTSTAMP:20260425T005315
CREATED:20240624T103321Z
LAST-MODIFIED:20240710T144417Z
UID:1150-1729195200-1729202400@positivedisciplinenetwerk.nl
SUMMARY:Opvoeden met Positive Discipline – cursus voor ouders en opvoeders
DESCRIPTION:Opvoeden met Positive Discipline – cursus voor ouders en opvoeders \nDe Positive Discipline cursus voor ouders die praktische tools en vaardigheden willen leren om respectvol met kinderen om te gaan en in verbinding te blijven. \nJe leert positief omgaan met je kinderen wanneer zij niet luisteren en niet mee willen werken\, en hoe je effectief grenzen stelt en consequent kunt zijn. Met behulp van theorie en oefeningen gaan we dieper in op thema’s zoals driftbuien\, ruzies\, machtsstrijd\, niet willen eten\, niet willen slapen\, huiswerk discussies en vele andere frustraties waar je als ouder mee te maken krijgt. \nDoor deze interactieve cursus te volgen\, en te oefenen met het materiaal\, zal je meer vertrouwen krijgen in je rol als ouder. Je leert je te verplaatsen in je kind en dit inzicht te gebruiken om manieren te vinden die wél werken. Uiteindelijk met als doel meer rust en plezier thuis. \nDe cursus wordt gegeven door: Neda Djavdan \nDe eerstvolgende cursus start op donderdag 17 oktober 2024\, van 20- 22 uur\, totaal 6x\, de overige data zijn 7\, 14 en 28 november\, 12 december 2024 en 9 januari 2025 \nDe cursus wordt live online via Zoom gegeven. \nTip:  Volgt je partner de cursus met je mee dan betaalt deze slechts € 99
URL:https://positivedisciplinenetwerk.nl/agenda/opvoeden-met-positive-discipline-cursus-voor-ouders-en-opvoeders/
LOCATION:Online
CATEGORIES:oudercursus
ORGANIZER;CN="Neda Djavdan-Badcoubei":MAILTO:neda@positivedisciplinenederland.nl
END:VEVENT
END:VCALENDAR