BEGIN:VCALENDAR
VERSION:2.0
PRODID:-//Positive Discipline Netwerk - ECPv6.15.20//NONSGML v1.0//EN
CALSCALE:GREGORIAN
METHOD:PUBLISH
X-WR-CALNAME:Positive Discipline Netwerk
X-ORIGINAL-URL:https://positivedisciplinenetwerk.nl
X-WR-CALDESC:Evenementen voor Positive Discipline Netwerk
REFRESH-INTERVAL;VALUE=DURATION:PT1H
X-Robots-Tag:noindex
X-PUBLISHED-TTL:PT1H
BEGIN:VTIMEZONE
TZID:Europe/Amsterdam
BEGIN:DAYLIGHT
TZOFFSETFROM:+0100
TZOFFSETTO:+0200
TZNAME:CEST
DTSTART:20250330T010000
END:DAYLIGHT
BEGIN:STANDARD
TZOFFSETFROM:+0200
TZOFFSETTO:+0100
TZNAME:CET
DTSTART:20251026T010000
END:STANDARD
BEGIN:DAYLIGHT
TZOFFSETFROM:+0100
TZOFFSETTO:+0200
TZNAME:CEST
DTSTART:20260329T010000
END:DAYLIGHT
BEGIN:STANDARD
TZOFFSETFROM:+0200
TZOFFSETTO:+0100
TZNAME:CET
DTSTART:20261025T010000
END:STANDARD
BEGIN:DAYLIGHT
TZOFFSETFROM:+0100
TZOFFSETTO:+0200
TZNAME:CEST
DTSTART:20270328T010000
END:DAYLIGHT
BEGIN:STANDARD
TZOFFSETFROM:+0200
TZOFFSETTO:+0100
TZNAME:CET
DTSTART:20271031T010000
END:STANDARD
END:VTIMEZONE
BEGIN:VEVENT
DTSTART;TZID=Europe/Amsterdam:20260420T200000
DTEND;TZID=Europe/Amsterdam:20260420T210000
DTSTAMP:20260420T025413
CREATED:20260112T134051Z
LAST-MODIFIED:20260112T134051Z
UID:1508-1776715200-1776718800@positivedisciplinenetwerk.nl
SUMMARY:Mentor meeting
DESCRIPTION:Maandelijkse mentor meeting voor Positive Discipline professionals. \nDe mentor meeting is een online bijeenkomst van een uurtje\, 1x per maand\, speciaal voor Positive Discipline professionals. Het is een moment om vragen te stellen en je verder te verdiepen in het Positive Discipline materiaal.
URL:https://positivedisciplinenetwerk.nl/agenda/mentor-meeting-39/
LOCATION:Online
CATEGORIES:mentormeeting
END:VEVENT
END:VCALENDAR